BEGIN:VCALENDAR
VERSION:2.0
PRODID:-//wp-events-plugin.com//7.2.3.1//EN
BEGIN:VEVENT
UID:3@mittelalter-netzwerk.de
DTSTART;TZID=Europe/Berlin;VALUE=DATE:20260523
DTEND;TZID=Europe/Berlin;VALUE=DATE:20260526
DTSTAMP:20260316T200555Z
URL:https://mittelalter-netzwerk.de/events/20-epochenfest-in-juelich/
SUMMARY:20. Epochenfest in Jülich – 3 Tage Jubiläum!
DESCRIPTION:Das 20. Epochenfest – 3 Tage Jubiläum! Zum Jubiläum erwarte
 t euch ein besonderes Bühnenprogramm – und erstmalig startet das Epoche
 nfest bereits am Pfingstsamstag! 
CATEGORIES:Mittelaltermarkt
LOCATION:Brückenkopf-Park Jülich\, Rurauenstraße 11\, Jühlich\, NRW\, 5
 2428\, Deutschland
X-APPLE-STRUCTURED-LOCATION;VALUE=URI;X-ADDRESS=Rurauenstraße 11\, Jühlic
 h\, NRW\, 52428\, Deutschland;X-APPLE-RADIUS=100;X-TITLE=Brückenkopf-Park
  Jülich:geo:0,0
END:VEVENT
BEGIN:VTIMEZONE
TZID:Europe/Berlin
X-LIC-LOCATION:Europe/Berlin
BEGIN:DAYLIGHT
DTSTART:20260329T030000
TZOFFSETFROM:+0100
TZOFFSETTO:+0200
TZNAME:CEST
END:DAYLIGHT
END:VTIMEZONE
END:VCALENDAR