BEGIN:VCALENDAR
VERSION:2.0
PRODID:-//wp-events-plugin.com//7.2.3.1//EN
BEGIN:VEVENT
UID:7@mittelalter-netzwerk.de
DTSTART;TZID=Europe/Berlin;VALUE=DATE:20260514
DTEND;TZID=Europe/Berlin;VALUE=DATE:20260518
DTSTAMP:20260316T192407Z
URL:https://mittelalter-netzwerk.de/events/31-freienfelser-ritterspiele-14
 -17-mai-2026/
SUMMARY:31. Freienfelser Ritterspiele 14. – 17. Mai 2026
DESCRIPTION:Die Freienfelser Ritterspiele zählen zu den ältesten und grö
 ßten Mittelalterveranstaltungen Deutschlands. Auf rund 150.000 qm Gesamtf
 läche treffen sich alljährlich über 2.000 Lagernde\, Musiker\, Handwerk
 er\, Künstler und Ritter.
LOCATION:Museum Burg Freienfels\, Mühlwiese 17\, Weinbach\, Hessen\, 35796
 \, Deutschland
X-APPLE-STRUCTURED-LOCATION;VALUE=URI;X-ADDRESS=Mühlwiese 17\, Weinbach\, 
 Hessen\, 35796\, Deutschland;X-APPLE-RADIUS=100;X-TITLE=Museum Burg Freien
 fels:geo:0,0
END:VEVENT
BEGIN:VTIMEZONE
TZID:Europe/Berlin
X-LIC-LOCATION:Europe/Berlin
BEGIN:DAYLIGHT
DTSTART:20260329T030000
TZOFFSETFROM:+0100
TZOFFSETTO:+0200
TZNAME:CEST
END:DAYLIGHT
END:VTIMEZONE
END:VCALENDAR