BEGIN:VCALENDAR
VERSION:2.0
PRODID:-//wp-events-plugin.com//7.2.3.1//EN
BEGIN:VEVENT
UID:6@mittelalter-netzwerk.de
DTSTART;TZID=Europe/Berlin;VALUE=DATE:20260724
DTEND;TZID=Europe/Berlin;VALUE=DATE:20260727
DTSTAMP:20260323T053209Z
URL:https://mittelalter-netzwerk.de/events/5-sommerfest-der-sons-of-odin-n
 ord-west-e-v/
SUMMARY:5. Sommerfest der Sons of Odin Nord-West e.V.
DESCRIPTION:​Seid gegrüßt\, Freunde der nordischen Kultur\, Vereinsmitg
 lieder und Verbündete! Das 5. Sommerfest unseres Vereins steht bevor!\n
CATEGORIES:Mittelaltermarkt
LOCATION:Worms-Wildnis\, Worms-Wildnis\, Herzogenrath \, NRW\, 52134  \, De
 utschland
X-APPLE-STRUCTURED-LOCATION;VALUE=URI;X-ADDRESS=Worms-Wildnis\, Herzogenrat
 h \, NRW\, 52134  \, Deutschland;X-APPLE-RADIUS=100;X-TITLE=Worms-Wildnis:
 geo:0,0
END:VEVENT
BEGIN:VTIMEZONE
TZID:Europe/Berlin
X-LIC-LOCATION:Europe/Berlin
BEGIN:DAYLIGHT
DTSTART:20260329T030000
TZOFFSETFROM:+0100
TZOFFSETTO:+0200
TZNAME:CEST
END:DAYLIGHT
END:VTIMEZONE
END:VCALENDAR