BEGIN:VCALENDAR
VERSION:2.0
PRODID:-//wp-events-plugin.com//7.2.3.1//EN
BEGIN:VEVENT
UID:10@mittelalter-netzwerk.de
DTSTART;TZID=Europe/Berlin:20260424T130000
DTEND;TZID=Europe/Berlin:20260426T190000
DTSTAMP:20260323T053950Z
URL:https://mittelalter-netzwerk.de/events/dreizehntes-unkeler-mittelalter
 -spektaculum/
SUMMARY:Dreizehntes Unkeler Mittelalter Spektaculum
DESCRIPTION:
CATEGORIES:Mittelaltermarkt
LOCATION:Unkeln Bürgerpark\, Linzer Straße 25\, Unkel\, 53572 \, Deutschl
 and
X-APPLE-STRUCTURED-LOCATION;VALUE=URI;X-ADDRESS=Linzer Straße 25\, Unkel\,
  53572 \, Deutschland;X-APPLE-RADIUS=100;X-TITLE=Unkeln Bürgerpark:geo:0,
 0
END:VEVENT
BEGIN:VTIMEZONE
TZID:Europe/Berlin
X-LIC-LOCATION:Europe/Berlin
BEGIN:DAYLIGHT
DTSTART:20260329T030000
TZOFFSETFROM:+0100
TZOFFSETTO:+0200
TZNAME:CEST
END:DAYLIGHT
END:VTIMEZONE
END:VCALENDAR