BEGIN:VCALENDAR
VERSION:2.0
PRODID:-//wp-events-plugin.com//7.2.3.1//EN
BEGIN:VEVENT
UID:5@mittelalter-netzwerk.de
DTSTART;TZID=Europe/Berlin;VALUE=DATE:20260806
DTEND;TZID=Europe/Berlin;VALUE=DATE:20260809
DTSTAMP:20260316T200627Z
URL:https://mittelalter-netzwerk.de/events/historienspektakel-cuxhaven-202
 6/
SUMMARY:Historienspektakel Cuxhaven 2026
DESCRIPTION:Historienspektakel Cuxhaven 2026 Im historischen Fort Kugelbake
 \, direkt an der Elbmündung\, findet in der Urlauberhochsaison dieser His
 torische Markt zum 26. Mal statt.
CATEGORIES:Mittelaltermarkt
LOCATION:Fort Kugelbake\, Strandstraße 80\, Cuxhaven\, Niedersachsen\, 274
 76\, Deutschland
X-APPLE-STRUCTURED-LOCATION;VALUE=URI;X-ADDRESS=Strandstraße 80\, Cuxhaven
 \, Niedersachsen\, 27476\, Deutschland;X-APPLE-RADIUS=100;X-TITLE=Fort Kug
 elbake:geo:0,0
END:VEVENT
BEGIN:VTIMEZONE
TZID:Europe/Berlin
X-LIC-LOCATION:Europe/Berlin
BEGIN:DAYLIGHT
DTSTART:20260329T030000
TZOFFSETFROM:+0100
TZOFFSETTO:+0200
TZNAME:CEST
END:DAYLIGHT
END:VTIMEZONE
END:VCALENDAR