BEGIN:VCALENDAR
VERSION:2.0
PRODID:-//wp-events-plugin.com//7.2.3.1//EN
BEGIN:VEVENT
UID:4@mittelalter-netzwerk.de
DTSTART;TZID=Europe/Berlin;VALUE=DATE:20270709
DTEND;TZID=Europe/Berlin;VALUE=DATE:20270712
DTSTAMP:20260221T133953Z
URL:https://mittelalter-netzwerk.de/events/historisches-marktplatzfest-in-
 waldkirch/
SUMMARY:Historisches Marktplatzfest in Waldkirch
DESCRIPTION:Wir laden Sie ein\, in die faszinierende Welt unseres Historisc
 hen Marktplatzfestes einzutauchen – nicht nur persönlich\, sondern auch
  digital!
LOCATION:Marktplatz Waldkirch\, Rathausinnenhof\, \, Waldkirch\, Baden-Wür
 ttemberg\, 79183\, Deutschland
X-APPLE-STRUCTURED-LOCATION;VALUE=URI;X-ADDRESS=Rathausinnenhof\, \, Waldki
 rch\, Baden-Württemberg\, 79183\, Deutschland;X-APPLE-RADIUS=100;X-TITLE=
 Marktplatz Waldkirch:geo:0,0
END:VEVENT
BEGIN:VTIMEZONE
TZID:Europe/Berlin
X-LIC-LOCATION:Europe/Berlin
BEGIN:DAYLIGHT
DTSTART:20270328T030000
TZOFFSETFROM:+0100
TZOFFSETTO:+0200
TZNAME:CEST
END:DAYLIGHT
END:VTIMEZONE
END:VCALENDAR