BEGIN:VCALENDAR
VERSION:2.0
PRODID:-//wp-events-plugin.com//7.2.3.1//EN
BEGIN:VEVENT
UID:8@mittelalter-netzwerk.de
DTSTART;TZID=Europe/Berlin;VALUE=DATE:20260508
DTEND;TZID=Europe/Berlin;VALUE=DATE:20260511
DTSTAMP:20260316T200504Z
URL:https://mittelalter-netzwerk.de/events/mittelaltermarkt-zu-nussloch-de
 r-burgfreunde-nussloch-e-v/
SUMMARY:Mittelaltermarkt zu Nußloch der Burgfreunde Nußloch e.V
DESCRIPTION:Wir freuen uns\, euch ein weiteres großartiges Spektakel in un
 serem Netzwerk ankündigen zu dürfen: Der Mittelaltermarkt zu Nußloch 
 der Burgfreunde Nußloch e.V. feiert in diesem Jahr sein 5-jähriges Ju
 biläum – und lädt euch zu drei Tagen voller Lagerleben\, Musik\, Gauk
 elei und Feuerspektakel ein.
CATEGORIES:Mittelaltermarkt
LOCATION:Max-Berk Stadion 69226 Nußloch\, Max-Berk Stadion \, Nußloch\, B
 aden-Württemberg\, 69226\, 
X-APPLE-STRUCTURED-LOCATION;VALUE=URI;X-ADDRESS=Max-Berk Stadion \, Nußloc
 h\, Baden-Württemberg\, 69226\, ;X-APPLE-RADIUS=100;X-TITLE=Max-Berk Stad
 ion 69226 Nußloch:geo:0,0
END:VEVENT
BEGIN:VTIMEZONE
TZID:Europe/Berlin
X-LIC-LOCATION:Europe/Berlin
BEGIN:DAYLIGHT
DTSTART:20260329T030000
TZOFFSETFROM:+0100
TZOFFSETTO:+0200
TZNAME:CEST
END:DAYLIGHT
END:VTIMEZONE
END:VCALENDAR