BEGIN:VCALENDAR
VERSION:2.0
PRODID:-//wp-events-plugin.com//7.2.3.1//EN
BEGIN:VEVENT
UID:11@mittelalter-netzwerk.de
DTSTART;TZID=Europe/Berlin:20260405T120000
DTEND;TZID=Europe/Berlin:20260406T190000
DTSTAMP:20260327T221843Z
URL:https://mittelalter-netzwerk.de/events/ostermarkt-burg-satzvey/
SUMMARY:Ostermarkt Burg Satzvey
DESCRIPTION:Ostermarkt Burg Satzvey 2026 – Fruehlingsfest auf der romanti
 schen Wasserburg bei Mechernich\nAn Ostersonntag und Ostermontag\, dem 5.
  und 6. April 2026\, wird auf der romantischen Burg Satzvey in Mecherni
 ch-Satzvey\, Nordrhein-Westfalen\, das neue Veranstaltungsjahr mit oesterl
 ichem Brauchtum eingelaeutet. Der traditionelle Ostermarkt der Patricia 
 Graefin Beissel GmbH verwandelt das historische Gelande der mittelalterlic
 hen Wasserburg in ein kunterbuntes Fruehlingsvergnuegen.\nProgramm fuer di
 e ganze Familie\nAn beiden Markttagen hoppelt der Osterhase von 13 bis 17
  Uhr mit den Kindern auf Eiersuche. Ganz neu 2026: die Werkstatt der Ost
 erhasen im Gutshof\, wo Kinder gemeinsam mit den Hasen basteln\, werkeln 
 und Eier bemalen koennen. Die Gauklerkapelle Trio Grande sorgt mit witzi
 gen Varietenummern und phantasievollen Kostuemen auf Stelzen fuer beste Un
 terhaltung. Autorin Jasmin Zipperling liest in der Burgbaeckerei aus ihr
 em Buch "Himmeldonnerglockchen!" vor.\nMarkt und Handwerk\nAn zahlreichen
  Markt- und Handwerksstaenden werden individuelles Kunsthandwerk\, Dekoa
 rtikel\, ausgefallene Kleidung\, Schmuck und regionale Spezialitaeten ange
 boten. Fuer das leibliche Wohl ist mit vielfaeltigen Essensstaenden besten
 s gesorgt. Im Burghof koennen Kinder mit dem grossen historischen Karusse
 ll fahren.\nOeffnungszeiten und Eintritt\nDer Ostermarkt ist am Sonntag 
 und Montag jeweils von 12 bis 19 Uhr geoeffnet. Eintritt: 15 Euro Erwach
 sene (VVK 12 Euro)\, 12 Euro Ermaeesigt (VVK 10 Euro)\, 10 Euro Kinder
  4-12 Jahre (VVK 8 Euro)\, Familienkarte 40 Euro (VVK 32 Euro). Kinder 
 unter 4 Jahren frei.\nAnfahrt\nBurg Satzvey\, An der Burg 3\, 53894 Meche
 rnich-Satzvey\, Nordrhein-Westfalen.
CATEGORIES:Mittelaltermarkt
LOCATION:An der Burg 3 53894 Mechernich-Satzvey\, An der Burg 3 \, 53894 Me
 chernich-Satzvey\, NRW\, 53894\, Deutschland
X-APPLE-STRUCTURED-LOCATION;VALUE=URI;X-ADDRESS=An der Burg 3 \, 53894 Mech
 ernich-Satzvey\, NRW\, 53894\, Deutschland;X-APPLE-RADIUS=100;X-TITLE=An d
 er Burg 3 53894 Mechernich-Satzvey:geo:0,0
END:VEVENT
BEGIN:VTIMEZONE
TZID:Europe/Berlin
X-LIC-LOCATION:Europe/Berlin
BEGIN:DAYLIGHT
DTSTART:20260329T030000
TZOFFSETFROM:+0100
TZOFFSETTO:+0200
TZNAME:CEST
END:DAYLIGHT
END:VTIMEZONE
END:VCALENDAR